BEGIN:VCALENDAR
METHOD:PUBLISH
PRODID:-//doubleknot.com//CalenderEvent MIMEDIR//EN
VERSION:2.0
BEGIN:VEVENT
UID:2366171-20181111T190000Z-20181111T210000Z@doubleknot.com
CREATED:20180427T161443Z
LAST-MODIFIED:20181030T192231Z
DTSTAMP:20260420T145739Z
DTSTART:20181111T190000Z
DTEND:20181111T210000Z
LOCATION:Kenny Hall, Atlanta, GA 30305, US
CATEGORIES:Post to PVA Calendar, Post to School Calendar
DESCRIPTION:The Pastor, Principal, and Parent Presentations will start at 2:00 pm in Kenny Hall. Parking is available in the deck. We welcome all interested families and students to visit our campus. Parent-guided tours will be offered. Application materials will be available for K-7th grades. RSVP now or contact admissions@christking.org.  \n 
SUMMARY:CKS Open House
PRIORITY:5
BEGIN:VALARM
TRIGGER:PT15M
ACTION:DISPLAY
DESCRIPTION:Reminder
PRIORITY:5
END:VALARM
END:VEVENT
END:VCALENDAR
